BEGIN:VCALENDAR
VERSION:2.0
PRODID:-//The Carers Centre - ECPv6.15.20//NONSGML v1.0//EN
CALSCALE:GREGORIAN
METHOD:PUBLISH
X-WR-CALNAME:The Carers Centre
X-ORIGINAL-URL:https://thecarerscentre.org
X-WR-CALDESC:Events for The Carers Centre
REFRESH-INTERVAL;VALUE=DURATION:PT1H
X-Robots-Tag:noindex
X-PUBLISHED-TTL:PT1H
BEGIN:VTIMEZONE
TZID:Europe/London
BEGIN:DAYLIGHT
TZOFFSETFROM:+0000
TZOFFSETTO:+0100
TZNAME:BST
DTSTART:20290325T010000
END:DAYLIGHT
BEGIN:STANDARD
TZOFFSETFROM:+0100
TZOFFSETTO:+0000
TZNAME:GMT
DTSTART:20291028T010000
END:STANDARD
BEGIN:DAYLIGHT
TZOFFSETFROM:+0000
TZOFFSETTO:+0100
TZNAME:BST
DTSTART:20300331T010000
END:DAYLIGHT
BEGIN:STANDARD
TZOFFSETFROM:+0100
TZOFFSETTO:+0000
TZNAME:GMT
DTSTART:20301027T010000
END:STANDARD
BEGIN:DAYLIGHT
TZOFFSETFROM:+0000
TZOFFSETTO:+0100
TZNAME:BST
DTSTART:20310330T010000
END:DAYLIGHT
BEGIN:STANDARD
TZOFFSETFROM:+0100
TZOFFSETTO:+0000
TZNAME:GMT
DTSTART:20311026T010000
END:STANDARD
END:VTIMEZONE
BEGIN:VEVENT
DTSTART;TZID=Europe/London:20300513T110000
DTEND;TZID=Europe/London:20300513T130000
DTSTAMP:20260420T123628
CREATED:20250730T094914Z
LAST-MODIFIED:20250731T101642Z
UID:10002311-1904900400-1904907600@thecarerscentre.org
SUMMARY:Changes Ahead Coffee and Chat (Monday meeting)
DESCRIPTION:Our Changes Ahead team hosts a coffee morning for carers of people with a mental health condition. \nFor more information or to express interest please contact info@carershub.co.uk or call 01273 977000 you can also email changesahead@thecarerscentre.org
URL:https://thecarerscentre.org/event/changes-ahead-coffee-and-chat-monday-meeting-3/2030-05-13/
LOCATION:Al Campo Lounge\, 84 - 86 London Road\, Brighton\, BN1 4JF\, United Kingdom
CATEGORIES:Peer Support
ATTACH;FMTTYPE=image/jpeg:https://thecarerscentre.org/wp-content/uploads/2025/04/coffee-4334647_1280.jpg
ORGANIZER;CN="The Carers Centre":MAILTO:events@thecarerscentre.org
END:VEVENT
END:VCALENDAR