BEGIN:VCALENDAR
VERSION:2.0
PRODID:-//The Carers Centre - ECPv6.15.20//NONSGML v1.0//EN
CALSCALE:GREGORIAN
METHOD:PUBLISH
X-WR-CALNAME:The Carers Centre
X-ORIGINAL-URL:https://thecarerscentre.org
X-WR-CALDESC:Events for The Carers Centre
REFRESH-INTERVAL;VALUE=DURATION:PT1H
X-Robots-Tag:noindex
X-PUBLISHED-TTL:PT1H
BEGIN:VTIMEZONE
TZID:UTC
BEGIN:STANDARD
TZOFFSETFROM:+0000
TZOFFSETTO:+0000
TZNAME:UTC
DTSTART:20240101T000000
END:STANDARD
END:VTIMEZONE
BEGIN:VEVENT
DTSTART;TZID=UTC:20250415T103000
DTEND;TZID=UTC:20250415T233000
DTSTAMP:20260420T101504
CREATED:20250402T123230Z
LAST-MODIFIED:20250402T123619Z
UID:10001014-1744713000-1744759800@thecarerscentre.org
SUMMARY:Monthly Meditation for Carers
DESCRIPTION:Creating a space for meditation and turning it into a positive habit.\nJoin us each month to learn about the different types of meditation practices\, their benefits to you and how you can include them in your daily life. \nEach month we will look at different ways to meditate\, with each session ending with a guided meditation. \nThis group is open to all carers \nPlease get in touch for joining instructions
URL:https://thecarerscentre.org/event/monthly-meditation-for-carers/2025-04-15/
LOCATION:Online via Zoom
CATEGORIES:Event
ATTACH;FMTTYPE=image/jpeg:https://thecarerscentre.org/wp-content/uploads/2025/04/azalea-1307644_1920-640x362-1.jpg
ORGANIZER;CN="The Carers Centre":MAILTO:events@thecarerscentre.org
END:VEVENT
END:VCALENDAR