BEGIN:VCALENDAR
VERSION:2.0
PRODID:-//The Carers Centre - ECPv6.15.20//NONSGML v1.0//EN
CALSCALE:GREGORIAN
METHOD:PUBLISH
X-WR-CALNAME:The Carers Centre
X-ORIGINAL-URL:https://thecarerscentre.org
X-WR-CALDESC:Events for The Carers Centre
REFRESH-INTERVAL;VALUE=DURATION:PT1H
X-Robots-Tag:noindex
X-PUBLISHED-TTL:PT1H
BEGIN:VTIMEZONE
TZID:Europe/London
BEGIN:DAYLIGHT
TZOFFSETFROM:+0000
TZOFFSETTO:+0100
TZNAME:BST
DTSTART:20250330T010000
END:DAYLIGHT
BEGIN:STANDARD
TZOFFSETFROM:+0100
TZOFFSETTO:+0000
TZNAME:GMT
DTSTART:20251026T010000
END:STANDARD
BEGIN:DAYLIGHT
TZOFFSETFROM:+0000
TZOFFSETTO:+0100
TZNAME:BST
DTSTART:20260329T010000
END:DAYLIGHT
BEGIN:STANDARD
TZOFFSETFROM:+0100
TZOFFSETTO:+0000
TZNAME:GMT
DTSTART:20261025T010000
END:STANDARD
BEGIN:DAYLIGHT
TZOFFSETFROM:+0000
TZOFFSETTO:+0100
TZNAME:BST
DTSTART:20270328T010000
END:DAYLIGHT
BEGIN:STANDARD
TZOFFSETFROM:+0100
TZOFFSETTO:+0000
TZNAME:GMT
DTSTART:20271031T010000
END:STANDARD
END:VTIMEZONE
BEGIN:VEVENT
DTSTART;TZID=Europe/London:20260715T103000
DTEND;TZID=Europe/London:20260715T113000
DTSTAMP:20260420T021550
CREATED:20260417T101759Z
LAST-MODIFIED:20260417T101759Z
UID:10002386-1784111400-1784115000@thecarerscentre.org
SUMMARY:Portslade Carers Book Group
DESCRIPTION:Join us for our monthly carers book club in-person at Portslade Library in Brighton and Hove. \nEach month we come together to discuss our chosen book\, relax with a warm drink and chat with pleasant company. \nOur Portslade Carers Book Group will meet on every third Wednesday of each month starting on Wednesday 17th September 2025\, 10.30am – 11.30am. \nIf you would like to join our monthly book club\, please do get in touch so we can arrange our latest book for you. \nWe look forward to seeing you there…. \nRefreshments will be provided\nPortslade Library\, Old Shoreham Road\, BN41 1XR \nFor more information or to show your interest please contact info@thecarerscentre.org or call 01273 746222
URL:https://thecarerscentre.org/event/portslade-carers-book-group-2/2026-07-15/
LOCATION:Portslade Library\, Old Shoreham Road\, Brighton\, BN41 1XR\, United Kingdom
ATTACH;FMTTYPE=image/jpeg:https://thecarerscentre.org/wp-content/uploads/2025/08/book-3531412_1280.jpg
ORGANIZER;CN="The Carers Centre":MAILTO:events@thecarerscentre.org
END:VEVENT
END:VCALENDAR