BEGIN:VCALENDAR
VERSION:2.0
PRODID:-//The Carers Centre - ECPv6.15.20//NONSGML v1.0//EN
CALSCALE:GREGORIAN
METHOD:PUBLISH
X-ORIGINAL-URL:https://thecarerscentre.org
X-WR-CALDESC:Events for The Carers Centre
REFRESH-INTERVAL;VALUE=DURATION:PT1H
X-Robots-Tag:noindex
X-PUBLISHED-TTL:PT1H
BEGIN:VTIMEZONE
TZID:UTC
BEGIN:STANDARD
TZOFFSETFROM:+0000
TZOFFSETTO:+0000
TZNAME:UTC
DTSTART:20250101T000000
END:STANDARD
END:VTIMEZONE
BEGIN:VEVENT
DTSTART;TZID=UTC:20260427T153000
DTEND;TZID=UTC:20260427T163000
DTSTAMP:20260420T040306
CREATED:20260210T091104Z
LAST-MODIFIED:20260325T151607Z
UID:10002980-1777303800-1777307400@thecarerscentre.org
SUMMARY:Learning Disabilities and/or Autism Carers Peer Support Group Meet Up (Hove Meetings) April
DESCRIPTION:Join us for coffee and a chat with other carers who help people with learning disabilities and/ or Autism. \nMeetings will alternate between Al Campo Lounge on London Road in Brighton and Modelo Lounge on Church Road in Hove. \nTo receive joining instructions contact steve.castellari@thecarerscentre.org or call 01273 977000 your place. \nPlease note: the day and venue may change at short notice\, so always check with steve.castellari@thecarerscentre.org for up-to-date information.
URL:https://thecarerscentre.org/event/learning-disabilities-and-or-autism-carers-peer-support-group-meet-up-hove-meetings-april/
LOCATION:Modelo Lounge\, 143-145 Church Road\, Hove\, BN3 2AE
CATEGORIES:Peer Support
ATTACH;FMTTYPE=image/jpeg:https://thecarerscentre.org/wp-content/uploads/2025/06/coffee-2306471_1280.jpg
ORGANIZER;CN="The Carers Centre":MAILTO:events@thecarerscentre.org
END:VEVENT
BEGIN:VEVENT
DTSTART;TZID=UTC:20260427T180000
DTEND;TZID=UTC:20260427T190000
DTSTAMP:20260420T040306
CREATED:20260210T091250Z
LAST-MODIFIED:20260210T091250Z
UID:10002981-1777312800-1777316400@thecarerscentre.org
SUMMARY:Working Carers (& Employers) Peer Support Coffee Meet Up (Hove) April
DESCRIPTION:“It is estimated that 1 in 8 employees are also family and friend carers.” \nJoin our friendly group for an early evening cuppa and chat with other working carers\, those seeking to return to work and employers. \nFor more information or to receive joining instructions please email: steve.castellari@thecarerscentre.org or call 01273 746222
URL:https://thecarerscentre.org/event/working-carers-employers-peer-support-coffee-meet-up-hove-april/
LOCATION:Modelo Lounge\, 143-145 Church Road\, Hove\, BN3 2AE
CATEGORIES:Peer Support
ATTACH;FMTTYPE=image/jpeg:https://thecarerscentre.org/wp-content/uploads/2025/06/coffee-2306471_1280.jpg
ORGANIZER;CN="The Carers Centre":MAILTO:events@thecarerscentre.org
END:VEVENT
END:VCALENDAR