BEGIN:VCALENDAR
VERSION:2.0
PRODID:-//The Carers Centre - ECPv6.15.20//NONSGML v1.0//EN
CALSCALE:GREGORIAN
METHOD:PUBLISH
X-ORIGINAL-URL:https://thecarerscentre.org
X-WR-CALDESC:Events for The Carers Centre
REFRESH-INTERVAL;VALUE=DURATION:PT1H
X-Robots-Tag:noindex
X-PUBLISHED-TTL:PT1H
BEGIN:VTIMEZONE
TZID:UTC
BEGIN:STANDARD
TZOFFSETFROM:+0000
TZOFFSETTO:+0000
TZNAME:UTC
DTSTART:20250101T000000
END:STANDARD
END:VTIMEZONE
BEGIN:VEVENT
DTSTART;TZID=UTC:20260420T110000
DTEND;TZID=UTC:20260420T120000
DTSTAMP:20260420T022310
CREATED:20250808T101538Z
LAST-MODIFIED:20251208T111035Z
UID:10000344-1776682800-1776686400@thecarerscentre.org
SUMMARY:Online Tai Chi and Qi Gong
DESCRIPTION:Join us for 45 minutes of guided light exercise known as Qi Gong and Tai Chi.\nThese movements are all about gently moving your body to breathe better and to stretch and loosen your joints. You can sit or stand\, there is no lying on the floor and your work to your own level. The tutor (who has been working with the Portslade Over 50s Activities Group for 12 years) will guide you through exercises you can remember and practice on a daily basis for enhanced wellbeing. \nContact info@thecarerscentre.org or call 01273 746222 for more information
URL:https://thecarerscentre.org/event/online-tai-chi-and-qi-gong-2-2/2026-04-20/
LOCATION:Online via Zoom
CATEGORIES:Event
ATTACH;FMTTYPE=image/jpeg:https://thecarerscentre.org/wp-content/uploads/2024/09/pic-taichi.jpg
ORGANIZER;CN="The Carers Centre":MAILTO:events@thecarerscentre.org
END:VEVENT
BEGIN:VEVENT
DTSTART;TZID=UTC:20260506T103000
DTEND;TZID=UTC:20260506T113000
DTSTAMP:20260420T022310
CREATED:20250402T100924Z
LAST-MODIFIED:20250402T133513Z
UID:10000083-1778063400-1778067000@thecarerscentre.org
SUMMARY:Online Carers Coffee and Chat
DESCRIPTION:Join us for our monthly coffee and chat sessions over zoom\, we are hosting these for all the unpaid carers in the city.\nEach month you will be able to meet and chat with other carers\, and all sessions are supported by a Carers Centre staff member. \nThis is a bookable event and is open to all unpaid family/friend carers in Brighton & Hove. \nFor more information or to book your place please call Carers Hub on 01273 977000 or email info@carershub.co.uk
URL:https://thecarerscentre.org/event/placeholder-event-2/2026-05-06/
LOCATION:Online via Zoom
CATEGORIES:Peer Support
ATTACH;FMTTYPE=image/png:https://thecarerscentre.org/wp-content/uploads/2024/09/pic-zoom.png
ORGANIZER;CN="The Carers Centre":MAILTO:events@thecarerscentre.org
END:VEVENT
BEGIN:VEVENT
DTSTART;TZID=UTC:20260610T103000
DTEND;TZID=UTC:20260610T120000
DTSTAMP:20260420T022310
CREATED:20260415T151025Z
LAST-MODIFIED:20260415T151025Z
UID:10002984-1781087400-1781092800@thecarerscentre.org
SUMMARY:Journalling for Carer Wellbeing
DESCRIPTION:“Journal writing is a voyage to the interior.” Christina Baldwin \nWould you like to delve into some mindful journalling to connect with your feelings and your unique voice in order to improve your sense of wellbeing and to have some fun along with the way with a group of fellow carers? \nExpanding on our last course of Journalling for Self-Compassion and Wellbeing where we combined some short mindfulness meditations with journalling\, we are now going to open this up to include a wider variety of themes and exercises around wellbeing. \nDid you know that journalling is scientifically proven to mitigate many of the issues carers face including reducing stress\, improving sleep\, reducing overwhelm and building self-confidence. \nJames Pennebaker\, a social scientist and researcher at the University of Texas\, has done groundbreaking work for the last twenty years on the healing power of writing. In his 1997 book Opening Up\, he documents the first research he did on the topic. Curious what the effects of writing down one’s experiences are\, he did a research study to find out. What he discovered surprised even him. \nThe group of students who wrote just once about difficult experiences and their emotions around those experiences experienced a 50% reduction in doctors’ visits in the next six months compared to the six months before writing. They reported fewer symptoms for any chronic illnesses they had\, greater happiness and even an increase in grades and higher success rates when looking for jobs. \nSo we can see that when we journal and process our lives on the page\, that the benefits are felt subjectively in our happiness levels but can also translate into some practical outcomes like better health and enhanced competence. \nJust as good digestion is essential to good health so too is the ability to process our feelings and the meanings we give to these feelings – which is something that we can learn to do creatively and effectively as we journal. \nWhether you are a seasoned journaller or a complete beginner you are very welcome to come along and join this supportive group of diverse\, reflective and inspiring carers. \nStarting Wednesday\, 10th June 10.30am to 12 noon (via Zoom) and on the second Wednesday of the month from then on.\nContact Nicola Lytle at nicola.lytle@thecarerscentre.org with any questions or to book your place.
URL:https://thecarerscentre.org/event/journalling-for-carer-wellbeing/
LOCATION:Online via Zoom
CATEGORIES:Workshop
ATTACH;FMTTYPE=image/jpeg:https://thecarerscentre.org/wp-content/uploads/2026/04/6689062-journal-2850091-scaled.jpg
ORGANIZER;CN="The Carers Centre":MAILTO:events@thecarerscentre.org
END:VEVENT
END:VCALENDAR